{
 "currentVersion": 11.3,
 "serviceDescription": "CGS_Geology_slides_12k_img",
 "name": "CGS_Geology_slides_12k_img",
 "description": "",
 "extent": {
  "xmin": 499201.9905029622,
  "ymin": 4185311.837849238,
  "xmax": 551712.4905029621,
  "ymax": 4241272.337849238,
  "spatialReference": {
   "wkid": 32610,
   "latestWkid": 32610
  }
 },
 "initialExtent": {
  "xmin": 499201.9905029622,
  "ymin": 4185311.837849238,
  "xmax": 551712.4905029621,
  "ymax": 4241272.337849238,
  "spatialReference": {
   "wkid": 32610,
   "latestWkid": 32610
  }
 },
 "fullExtent": {
  "xmin": 499201.9905029622,
  "ymin": 4185311.837849238,
  "xmax": 551712.4905029621,
  "ymax": 4241272.337849238,
  "spatialReference": {
   "wkid": 32610,
   "latestWkid": 32610
  }
 },
 "sortableFields": "",
 "bandCount": 1,
 "pixelType": "U8",
 "minValues": [
  0
 ],
 "maxValues": [
  254
 ],
 "meanValues": [
  172.92625148765
 ],
 "stdvValues": [
  78.625575468719
 ],
 "hasMultidimensions": false,
 "pixelSizeX": 1.4999999999999984,
 "pixelSizeY": 1.5,
 "meanPixelSize": 1.4999999999999991,
 "datasetFormat": "IMAGINE Image",
 "uncompressedSize": 1306006149,
 "blockWidth": 64,
 "blockHeight": 64,
 "compressionType": "RLE",
 "bandNames": [
  "Layer_1"
 ],
 "allowCopy": true,
 "allowAnalysis": true,
 "itemAccess": false,
 "inspectionCapabilities": "",
 "noDataValue": 255,
 "noDataValues": [
  255
 ],
 "minPixelSize": 0,
 "maxPixelSize": 0,
 "copyrightText": "",
 "serviceDataType": "esriImageServiceDataTypeGeneric",
 "serviceSourceType": "esriImageServiceSourceTypeDataset",
 "objectIdField": "",
 "fields": [],
 "capabilities": "Mensuration,Image,Metadata",
 "defaultMosaicMethod": "Center",
 "allowedMosaicMethods": "",
 "sortField": "",
 "sortValue": null,
 "sortAscending": true,
 "mosaicOperator": "First",
 "defaultCompressionQuality": 75,
 "defaultResamplingMethod": "Bilinear",
 "maxImageHeight": 4100,
 "maxImageWidth": 15000,
 "allowRasterFunction": true,
 "rasterFunctionInfos": [
  {
   "name": "None",
   "description": "",
   "help": ""
  }
 ],
 "rasterTypeInfos": [
  {
   "name": "Raster Dataset",
   "description": "Supports all ArcGIS Raster Datasets",
   "help": ""
  }
 ],
 "mensurationCapabilities": "Basic",
 "hasHistograms": true,
 "hasColormap": false,
 "hasRasterAttributeTable": false,
 "minScale": 0,
 "maxScale": 0,
 "exportTilesAllowed": false,
 "supportsStatistics": false,
 "supportsAdvancedQueries": false,
 "editFieldsInfo": null,
 "ownershipBasedAccessControlForRasters": null,
 "allowComputeTiePoints": false,
 "useStandardizedQueries": true,
 "advancedQueryCapabilities": {
  "useStandardizedQueries": true,
  "supportsStatistics": false,
  "supportsOrderBy": false,
  "supportsDistinct": false,
  "supportsPagination": false
 },
 "spatialReference": {
  "wkid": 32610,
  "latestWkid": 32610
 },
 "resampling": false
}
