<?xml version="1.0" encoding="UTF-8" standalone="no"?>
<metadata xml:lang="en">
<Esri>
<CreaDate>20260924</CreaDate>
<CreaTime>11344000</CreaTime>
<ArcGISFormat>1.0</ArcGISFormat>
<SyncOnce>FALSE</SyncOnce>
<DataProperties>
<itemProps>
<itemName Sync="TRUE">ElevReclass.tif</itemName>
<imsContentType Sync="TRUE">002</imsContentType>
<nativeExtBox>
<westBL Sync="TRUE">5955128.350101</westBL>
<eastBL Sync="TRUE">6003943.101414</eastBL>
<southBL Sync="TRUE">2123042.813685</southBL>
<northBL Sync="TRUE">2269266.077804</northBL>
<exTypeCode Sync="TRUE">1</exTypeCode>
</nativeExtBox>
</itemProps>
<coordRef>
<type Sync="TRUE">Projected</type>
<geogcsn Sync="TRUE">GCS_NAD_1983_2011</geogcsn>
<csUnits Sync="TRUE">Linear Unit: Foot_US (0.304801)</csUnits>
<projcsn Sync="TRUE">NAD_1983_2011_StatePlane_California_III_FIPS_0403_Ft_US</projcsn>
<peXml Sync="TRUE">&lt;ProjectedCoordinateSystem xsi:type='typens:ProjectedCoordinateSystem' xmlns:xsi='http://www.w3.org/2001/XMLSchema-instance' xmlns:xs='http://www.w3.org/2001/XMLSchema' xmlns:typens='http://www.esri.com/schemas/ArcGIS/3.7.0'&gt;&lt;WKT&gt;COMPOUNDCRS[&amp;quot;&amp;quot;,PROJCRS[&amp;quot;NAD_1983_2011_StatePlane_California_III_FIPS_0403_Ft_US&amp;quot;,BASEGEOGCRS[&amp;quot;GCS_NAD_1983_2011&amp;quot;,DATUM[&amp;quot;D_NAD_1983_2011&amp;quot;,ELLIPSOID[&amp;quot;GRS_1980&amp;quot;,6378137.0,298.257222101],ANCHOREPOCH[2010.0]],PRIMEM[&amp;quot;Greenwich&amp;quot;,0.0],CS[ellipsoidal,2],AXIS[&amp;quot;Latitude (lat)&amp;quot;,north,ORDER[1]],AXIS[&amp;quot;Longitude (lon)&amp;quot;,east,ORDER[2]],ANGLEUNIT[&amp;quot;Degree&amp;quot;,0.0174532925199433]],CONVERSION[&amp;quot;Lambert_Conformal_Conic&amp;quot;,METHOD[&amp;quot;Lambert_Conformal_Conic&amp;quot;],PARAMETER[&amp;quot;False_Easting&amp;quot;,6561666.666666666,LENGTHUNIT[&amp;quot;Foot_US&amp;quot;,0.3048006096012192]],PARAMETER[&amp;quot;False_Northing&amp;quot;,1640416.666666667,LENGTHUNIT[&amp;quot;Foot_US&amp;quot;,0.3048006096012192]],PARAMETER[&amp;quot;Central_Meridian&amp;quot;,-120.5],PARAMETER[&amp;quot;Standard_Parallel_1&amp;quot;,37.06666666666667],PARAMETER[&amp;quot;Standard_Parallel_2&amp;quot;,38.43333333333333],PARAMETER[&amp;quot;Latitude_Of_Origin&amp;quot;,36.5]],CS[Cartesian,2],AXIS[&amp;quot;Easting (X)&amp;quot;,east,ORDER[1]],AXIS[&amp;quot;Northing (Y)&amp;quot;,north,ORDER[2]],LENGTHUNIT[&amp;quot;Foot_US&amp;quot;,0.3048006096012192]],VERTCRS[&amp;quot;NAVD88_height_(ftUS)&amp;quot;,VDATUM[&amp;quot;North_American_Vertical_Datum_1988&amp;quot;],CS[vertical,1],AXIS[&amp;quot;Gravity-related height (H)&amp;quot;,up,LENGTHUNIT[&amp;quot;Foot_US&amp;quot;,0.3048006096012192]]]]&lt;/WKT&gt;&lt;XOrigin&gt;-115860600&lt;/XOrigin&gt;&lt;YOrigin&gt;-93269500&lt;/YOrigin&gt;&lt;XYScale&gt;36787427.345686711&lt;/XYScale&gt;&lt;ZOrigin&gt;-100000&lt;/ZOrigin&gt;&lt;ZScale&gt;10000&lt;/ZScale&gt;&lt;MOrigin&gt;-100000&lt;/MOrigin&gt;&lt;MScale&gt;10000&lt;/MScale&gt;&lt;XYTolerance&gt;0.0032808333333333331&lt;/XYTolerance&gt;&lt;ZTolerance&gt;0.001&lt;/ZTolerance&gt;&lt;MTolerance&gt;0.001&lt;/MTolerance&gt;&lt;HighPrecision&gt;true&lt;/HighPrecision&gt;&lt;WKID&gt;103005&lt;/WKID&gt;&lt;LatestWKID&gt;6420&lt;/LatestWKID&gt;&lt;VCSWKID&gt;105703&lt;/VCSWKID&gt;&lt;LatestVCSWKID&gt;6360&lt;/LatestVCSWKID&gt;&lt;/ProjectedCoordinateSystem&gt;</peXml>
</coordRef>
<RasterProperties>
<General>
<PixelDepth Sync="TRUE">8</PixelDepth>
<HasColormap Sync="TRUE">FALSE</HasColormap>
<CompressionType Sync="TRUE">LZW</CompressionType>
<NumBands Sync="TRUE">1</NumBands>
<Format Sync="TRUE">TIFF</Format>
<HasPyramids Sync="TRUE">FALSE</HasPyramids>
<SourceType Sync="TRUE">discrete</SourceType>
<PixelType Sync="TRUE">unsigned integer</PixelType>
<NoDataValue Sync="TRUE">255</NoDataValue>
</General>
</RasterProperties>
</DataProperties>
<SyncDate>20260813</SyncDate>
<SyncTime>12564200</SyncTime>
<ModDate>20260924</ModDate>
<ModTime>11371000</ModTime>
<scaleRange>
<minScale>500000</minScale>
<maxScale>5000</maxScale>
</scaleRange>
<ArcGISProfile>FGDC</ArcGISProfile>
</Esri>
<dataIdInfo>
<envirDesc Sync="FALSE">Esri ArcGIS 13.7.0.1901</envirDesc>
<dataLang>
<languageCode Sync="TRUE" value="eng">
</languageCode>
<countryCode Sync="TRUE" value="USA">
</countryCode>
</dataLang>
<idCitation>
<resTitle Sync="TRUE">2025_SFBD_LiDAR_Reclass</resTitle>
<presForm>
<PresFormCd Sync="TRUE" value="005">
</PresFormCd>
</presForm>
</idCitation>
<spatRpType>
<SpatRepTypCd Sync="TRUE" value="002">
</SpatRepTypCd>
</spatRpType>
<dataExt>
<geoEle>
<GeoBndBox esriExtentType="search">
<exTypeCode Sync="TRUE">1</exTypeCode>
<westBL Sync="TRUE">-122.611085</westBL>
<eastBL Sync="TRUE">-122.430735</eastBL>
<northBL Sync="TRUE">38.211165</northBL>
<southBL Sync="TRUE">37.806807</southBL>
</GeoBndBox>
</geoEle>
</dataExt>
<idPurp>The 2025 SFBD LiDAR Reclass raster was produced from the 2025 San Francisco Bay Delta LiDAR product. The goal of the project was to obtain LiDAR elevation of bayside lands at low tide for sea level rise planning. LiDAR data was collected between 8/22/2025 – 10/06/2026 and a 1-ft hydro-flattened Bare Earth Digital Elevation Model in GeoTIFF format was produced. Metadata for the SF Bay Delta LiDAR can be found here: https://lab.data.ca.gov/dataset/2025-san-francisco-bay-delta-lidar</idPurp>
<idAbs>&lt;div style='text-align:Left;'&gt;&lt;div&gt;&lt;div&gt;&lt;p&gt;&lt;span&gt;&lt;span&gt;Staff from Marin County DPW merged tiles from SF Bay Delta LiDAR project into one mosaic GeoTIFF. In order to simplify the data for use in tidal flooding and El Nino preparation maps and apps, staff then reclassed the result into a new raster of ½ ft elevation categories according to the reclass table below:&lt;/span&gt;&lt;/span&gt;&lt;/p&gt;&lt;table&gt;&lt;tbody&gt;&lt;tr&gt;&lt;td&gt;&lt;p&gt;&lt;span&gt;&lt;span&gt;From&lt;/span&gt;&lt;/span&gt;&lt;/p&gt;&lt;/td&gt;&lt;td&gt;&lt;p&gt;&lt;span&gt;&lt;span&gt;To&lt;/span&gt;&lt;/span&gt;&lt;/p&gt;&lt;/td&gt;&lt;td&gt;&lt;p&gt;&lt;span&gt;&lt;span&gt;Output&lt;/span&gt;&lt;/span&gt;&lt;/p&gt;&lt;/td&gt;&lt;/tr&gt;&lt;tr&gt;&lt;td&gt;&lt;p style='text-align:Right;'&gt;&lt;span&gt;&lt;span&gt;-500&lt;/span&gt;&lt;/span&gt;&lt;/p&gt;&lt;/td&gt;&lt;td&gt;&lt;p style='text-align:Right;'&gt;&lt;span&gt;&lt;span&gt;0.999&lt;/span&gt;&lt;/span&gt;&lt;/p&gt;&lt;/td&gt;&lt;td&gt;&lt;p style='text-align:Right;'&gt;&lt;span&gt;&lt;span&gt;0&lt;/span&gt;&lt;/span&gt;&lt;/p&gt;&lt;/td&gt;&lt;/tr&gt;&lt;tr&gt;&lt;td&gt;&lt;p style='text-align:Right;'&gt;&lt;span&gt;&lt;span&gt;0&lt;/span&gt;&lt;/span&gt;&lt;/p&gt;&lt;/td&gt;&lt;td&gt;&lt;p style='text-align:Right;'&gt;&lt;span&gt;&lt;span&gt;5.999&lt;/span&gt;&lt;/span&gt;&lt;/p&gt;&lt;/td&gt;&lt;td&gt;&lt;p style='text-align:Right;'&gt;&lt;span&gt;&lt;span&gt;1&lt;/span&gt;&lt;/span&gt;&lt;/p&gt;&lt;/td&gt;&lt;/tr&gt;&lt;tr&gt;&lt;td&gt;&lt;p style='text-align:Right;'&gt;&lt;span&gt;&lt;span&gt;6&lt;/span&gt;&lt;/span&gt;&lt;/p&gt;&lt;/td&gt;&lt;td&gt;&lt;p style='text-align:Right;'&gt;&lt;span&gt;&lt;span&gt;6.4999&lt;/span&gt;&lt;/span&gt;&lt;/p&gt;&lt;/td&gt;&lt;td&gt;&lt;p style='text-align:Right;'&gt;&lt;span&gt;&lt;span&gt;2&lt;/span&gt;&lt;/span&gt;&lt;/p&gt;&lt;/td&gt;&lt;/tr&gt;&lt;tr&gt;&lt;td&gt;&lt;p style='text-align:Right;'&gt;&lt;span&gt;&lt;span&gt;6.5&lt;/span&gt;&lt;/span&gt;&lt;/p&gt;&lt;/td&gt;&lt;td&gt;&lt;p style='text-align:Right;'&gt;&lt;span&gt;&lt;span&gt;6.999&lt;/span&gt;&lt;/span&gt;&lt;/p&gt;&lt;/td&gt;&lt;td&gt;&lt;p style='text-align:Right;'&gt;&lt;span&gt;&lt;span&gt;3&lt;/span&gt;&lt;/span&gt;&lt;/p&gt;&lt;/td&gt;&lt;/tr&gt;&lt;tr&gt;&lt;td&gt;&lt;p style='text-align:Right;'&gt;&lt;span&gt;&lt;span&gt;7&lt;/span&gt;&lt;/span&gt;&lt;/p&gt;&lt;/td&gt;&lt;td&gt;&lt;p style='text-align:Right;'&gt;&lt;span&gt;&lt;span&gt;7.499&lt;/span&gt;&lt;/span&gt;&lt;/p&gt;&lt;/td&gt;&lt;td&gt;&lt;p style='text-align:Right;'&gt;&lt;span&gt;&lt;span&gt;4&lt;/span&gt;&lt;/span&gt;&lt;/p&gt;&lt;/td&gt;&lt;/tr&gt;&lt;tr&gt;&lt;td&gt;&lt;p style='text-align:Right;'&gt;&lt;span&gt;&lt;span&gt;7.5&lt;/span&gt;&lt;/span&gt;&lt;/p&gt;&lt;/td&gt;&lt;td&gt;&lt;p style='text-align:Right;'&gt;&lt;span&gt;&lt;span&gt;7.999&lt;/span&gt;&lt;/span&gt;&lt;/p&gt;&lt;/td&gt;&lt;td&gt;&lt;p style='text-align:Right;'&gt;&lt;span&gt;&lt;span&gt;5&lt;/span&gt;&lt;/span&gt;&lt;/p&gt;&lt;/td&gt;&lt;/tr&gt;&lt;tr&gt;&lt;td&gt;&lt;p style='text-align:Right;'&gt;&lt;span&gt;&lt;span&gt;8&lt;/span&gt;&lt;/span&gt;&lt;/p&gt;&lt;/td&gt;&lt;td&gt;&lt;p style='text-align:Right;'&gt;&lt;span&gt;&lt;span&gt;8.4999&lt;/span&gt;&lt;/span&gt;&lt;/p&gt;&lt;/td&gt;&lt;td&gt;&lt;p style='text-align:Right;'&gt;&lt;span&gt;&lt;span&gt;6&lt;/span&gt;&lt;/span&gt;&lt;/p&gt;&lt;/td&gt;&lt;/tr&gt;&lt;tr&gt;&lt;td&gt;&lt;p style='text-align:Right;'&gt;&lt;span&gt;&lt;span&gt;8.5&lt;/span&gt;&lt;/span&gt;&lt;/p&gt;&lt;/td&gt;&lt;td&gt;&lt;p style='text-align:Right;'&gt;&lt;span&gt;&lt;span&gt;8.999&lt;/span&gt;&lt;/span&gt;&lt;/p&gt;&lt;/td&gt;&lt;td&gt;&lt;p style='text-align:Right;'&gt;&lt;span&gt;&lt;span&gt;7&lt;/span&gt;&lt;/span&gt;&lt;/p&gt;&lt;/td&gt;&lt;/tr&gt;&lt;tr&gt;&lt;td&gt;&lt;p style='text-align:Right;'&gt;&lt;span&gt;&lt;span&gt;9&lt;/span&gt;&lt;/span&gt;&lt;/p&gt;&lt;/td&gt;&lt;td&gt;&lt;p style='text-align:Right;'&gt;&lt;span&gt;&lt;span&gt;9.4999&lt;/span&gt;&lt;/span&gt;&lt;/p&gt;&lt;/td&gt;&lt;td&gt;&lt;p style='text-align:Right;'&gt;&lt;span&gt;&lt;span&gt;8&lt;/span&gt;&lt;/span&gt;&lt;/p&gt;&lt;/td&gt;&lt;/tr&gt;&lt;tr&gt;&lt;td&gt;&lt;p style='text-align:Right;'&gt;&lt;span&gt;&lt;span&gt;9.5&lt;/span&gt;&lt;/span&gt;&lt;/p&gt;&lt;/td&gt;&lt;td&gt;&lt;p style='text-align:Right;'&gt;&lt;span&gt;&lt;span&gt;10&lt;/span&gt;&lt;/span&gt;&lt;/p&gt;&lt;/td&gt;&lt;td&gt;&lt;p style='text-align:Right;'&gt;&lt;span&gt;&lt;span&gt;9&lt;/span&gt;&lt;/span&gt;&lt;/p&gt;&lt;/td&gt;&lt;/tr&gt;&lt;tr&gt;&lt;td&gt;&lt;p style='text-align:Right;'&gt;&lt;span&gt;&lt;span&gt;10.1&lt;/span&gt;&lt;/span&gt;&lt;/p&gt;&lt;/td&gt;&lt;td&gt;&lt;p&gt;&lt;/td&gt;&lt;td&gt;&lt;p style='text-align:Right;'&gt;&lt;span&gt;&lt;span&gt;0&lt;/span&gt;&lt;/span&gt;&lt;/p&gt;&lt;/td&gt;&lt;/tr&gt;&lt;/tbody&gt;&lt;/table&gt;&lt;p&gt;&lt;/div&gt;&lt;/div&gt;&lt;/div&gt;&lt;/p&gt;&lt;/p&gt;</idAbs>
<resConst>
<Consts>
<useLimit>&lt;div style='text-align:Left;'&gt;&lt;div&gt;&lt;div&gt;&lt;p&gt;&lt;span&gt;&lt;span&gt;The County of Marin make no representation or warranties, express or implied, with respect to the use or reuse of the data provided herewith, regardless of its format or the means of its transmission. The data is provided "as is" with no guarantee or representation about the accuracy, currency, suitability, performance, merchantability, reliability, or fitness of the data for any particular purpose. &lt;/span&gt;&lt;/span&gt;&lt;span style='font-weight:bold;'&gt;&lt;span&gt;The data are not survey precise. The County of Marin shall not be liable for any direct, indirect, special, incidental, compensatory or consequential damages or third party claims resulting from the use of this data, even if the County of Marin has been advised of the possibility of such potential loss or damage.&lt;/span&gt;&lt;/span&gt;&lt;span&gt;&lt;span&gt; This data may not be used in states that do not allow the exclusion or limitation of incidental or consequential damages. The County reserves the right to make changes and improvements at any time and without notice. To assist in the maintenance of the data, users are requested to provide information concerning any errors or discrepancies found when using the data to: DPW GIS; County of Marin, DPW, PO Box 4186, San Rafael CA 94913-4186; email: &lt;/span&gt;&lt;/span&gt;&lt;a href='mailto:DPWGIS@marincounty.gov' style='text-decoration:underline;'&gt;&lt;span style='text-decoration:underline;'&gt;&lt;span&gt;DPWGIS@marincounty.gov&lt;/span&gt;&lt;/span&gt;&lt;/a&gt;&lt;/p&gt;&lt;/div&gt;&lt;/div&gt;&lt;/div&gt;</useLimit>
</Consts>
</resConst>
</dataIdInfo>
<mdLang>
<languageCode Sync="TRUE" value="eng">
</languageCode>
<countryCode Sync="TRUE" value="USA">
</countryCode>
</mdLang>
<distInfo>
<distFormat>
<formatName Sync="TRUE">Raster Dataset</formatName>
</distFormat>
</distInfo>
<mdHrLv>
<ScopeCd Sync="TRUE" value="005">
</ScopeCd>
</mdHrLv>
<mdHrLvName Sync="TRUE">dataset</mdHrLvName>
<refSysInfo>
<RefSystem>
<refSysID>
<identCode Sync="TRUE" code="6420">
</identCode>
<idCodeSpace Sync="TRUE">EPSG</idCodeSpace>
<idVersion Sync="TRUE">8.2.10(10.3.1)</idVersion>
</refSysID>
</RefSystem>
</refSysInfo>
<spatRepInfo>
<Georect>
<cellGeo>
<CellGeoCd Sync="TRUE" value="002">
</CellGeoCd>
</cellGeo>
<numDims Sync="TRUE">2</numDims>
<tranParaAv Sync="TRUE">1</tranParaAv>
<chkPtAv Sync="TRUE">0</chkPtAv>
<cornerPts>
<pos Sync="TRUE">5955128.350101 2123042.813685</pos>
</cornerPts>
<cornerPts>
<pos Sync="TRUE">5955128.350101 2269266.077804</pos>
</cornerPts>
<cornerPts>
<pos Sync="TRUE">6003943.101414 2269266.077804</pos>
</cornerPts>
<cornerPts>
<pos Sync="TRUE">6003943.101414 2123042.813685</pos>
</cornerPts>
<centerPt>
<pos Sync="TRUE">5979535.725757 2196154.445745</pos>
</centerPt>
<axisDimension type="002">
<dimSize Sync="TRUE">48817</dimSize>
<dimResol>
<value Sync="TRUE" uom="ftUS">0.999954</value>
</dimResol>
</axisDimension>
<axisDimension type="001">
<dimSize Sync="TRUE">146230</dimSize>
<dimResol>
<value Sync="TRUE" uom="ftUS">0.999954</value>
</dimResol>
</axisDimension>
<ptInPixel>
<PixOrientCd Sync="TRUE" value="001">
</PixOrientCd>
</ptInPixel>
</Georect>
</spatRepInfo>
<eainfo>
<detailed Name="ElevReclass.tif.vat">
<enttyp>
<enttypl Sync="TRUE">ElevReclass.tif.vat</enttypl>
<enttypt Sync="TRUE">Table</enttypt>
<enttypc Sync="TRUE">9</enttypc>
</enttyp>
<attr>
<attrlabl Sync="TRUE">OID</attrlabl>
<attalias Sync="TRUE">OID</attalias>
<attrtype Sync="TRUE">OID</attrtype>
<attwidth Sync="TRUE">4</attwidth>
<atprecis Sync="TRUE">0</atprecis>
<attscale Sync="TRUE">0</attscale>
<attrdef Sync="TRUE">Internal feature number.</attrdef>
<attrdefs Sync="TRUE">Esri</attrdefs>
<attrdomv>
<udom Sync="TRUE">Sequential unique whole numbers that are automatically generated.</udom>
</attrdomv>
</attr>
<attr>
<attrlabl Sync="TRUE">Value</attrlabl>
<attalias Sync="TRUE">Value</attalias>
<attrtype Sync="TRUE">Integer</attrtype>
<attwidth Sync="TRUE">10</attwidth>
<atprecis Sync="TRUE">10</atprecis>
<attscale Sync="TRUE">0</attscale>
</attr>
<attr>
<attrlabl Sync="TRUE">Count</attrlabl>
<attalias Sync="TRUE">Count</attalias>
<attrtype Sync="TRUE">Double</attrtype>
<attwidth Sync="TRUE">19</attwidth>
<atprecis Sync="TRUE">0</atprecis>
<attscale Sync="TRUE">0</attscale>
</attr>
<attr>
<attrlabl Sync="TRUE">ClassName</attrlabl>
<attalias Sync="TRUE">ClassName</attalias>
<attrtype Sync="TRUE">String</attrtype>
<attwidth Sync="TRUE">50</attwidth>
<atprecis Sync="TRUE">0</atprecis>
<attscale Sync="TRUE">0</attscale>
</attr>
</detailed>
</eainfo>
<contInfo>
<ImgDesc>
<contentTyp>
<ContentTypCd Sync="TRUE" value="002">
</ContentTypCd>
</contentTyp>
<covDim>
<Band>
<dimDescrp Sync="TRUE">Band_1</dimDescrp>
<bitsPerVal Sync="TRUE">8</bitsPerVal>
<valUnit>
<UOM type="length">
</UOM>
</valUnit>
</Band>
</covDim>
</ImgDesc>
</contInfo>
<mdDateSt Sync="TRUE">20260924</mdDateSt>
</metadata>
