{ "currentVersion": 11.3, "serviceDescription": "
Staff from Marin County DPW merged tiles from SF Bay Delta LiDAR project into one mosaic GeoTIFF. In order to simplify the data for use in tidal flooding and El Nino preparation maps and apps, staff then reclassed the result into a new raster of ½ ft elevation categories according to the reclass table below:<\/span><\/span><\/p> From<\/span><\/span><\/p><\/td> To<\/span><\/span><\/p><\/td> Output<\/span><\/span><\/p><\/td><\/tr> -500<\/span><\/span><\/p><\/td> 0.999<\/span><\/span><\/p><\/td> 0<\/span><\/span><\/p><\/td><\/tr> 0<\/span><\/span><\/p><\/td> 5.999<\/span><\/span><\/p><\/td> 1<\/span><\/span><\/p><\/td><\/tr> 6<\/span><\/span><\/p><\/td> 6.4999<\/span><\/span><\/p><\/td> 2<\/span><\/span><\/p><\/td><\/tr> 6.5<\/span><\/span><\/p><\/td> 6.999<\/span><\/span><\/p><\/td> 3<\/span><\/span><\/p><\/td><\/tr> 7<\/span><\/span><\/p><\/td> 7.499<\/span><\/span><\/p><\/td> 4<\/span><\/span><\/p><\/td><\/tr> 7.5<\/span><\/span><\/p><\/td> 7.999<\/span><\/span><\/p><\/td> 5<\/span><\/span><\/p><\/td><\/tr> 8<\/span><\/span><\/p><\/td> 8.4999<\/span><\/span><\/p><\/td> 6<\/span><\/span><\/p><\/td><\/tr> 8.5<\/span><\/span><\/p><\/td> 8.999<\/span><\/span><\/p><\/td> 7<\/span><\/span><\/p><\/td><\/tr> 9<\/span><\/span><\/p><\/td> 9.4999<\/span><\/span><\/p><\/td> 8<\/span><\/span><\/p><\/td><\/tr> 9.5<\/span><\/span><\/p><\/td> 10<\/span><\/span><\/p><\/td> 9<\/span><\/span><\/p><\/td><\/tr> 10.1<\/span><\/span><\/p><\/td> <\/td> 0<\/span><\/span><\/p><\/td><\/tr><\/tbody><\/table> <\/div><\/div><\/div><\/p><\/p>",
"name": "Data/2025_SFBD_LiDAR_Reclass",
"description": "",
"extent": {
"xmin": 5955128.350100883,
"ymin": 2123042.813684926,
"xmax": 6003943.101413966,
"ymax": 2269266.0778042306,
"spatialReference": {
"wkt2": "COMPOUNDCRS[\"\",PROJCRS[\"NAD_1983_2011_StatePlane_California_III_FIPS_0403_Ft_US\",BASEGEOGCRS[\"GCS_NAD_1983_2011\",DATUM[\"D_NAD_1983_2011\",ELLIPSOID[\"GRS_1980\",6378137.0,298.257222101,LENGTHUNIT[\"Meter\",1.0]]],PRIMEM[\"Greenwich\",0.0,ANGLEUNIT[\"Degree\",0.0174532925199433]],CS[ellipsoidal,2],ANGLEUNIT[\"Degree\",0.0174532925199433]],CONVERSION[\"Lambert_Conformal_Conic\",METHOD[\"Lambert_Conformal_Conic\"],PARAMETER[\"False_Easting\",6561666.667,LENGTHUNIT[\"Foot_US\",0.3048006096012192]],PARAMETER[\"False_Northing\",1640416.667,LENGTHUNIT[\"Foot_US\",0.3048006096012192]],PARAMETER[\"Central_Meridian\",-120.5,ANGLEUNIT[\"Degree\",0.0174532925199433]],PARAMETER[\"Standard_Parallel_1\",37.0666666666667,ANGLEUNIT[\"Degree\",0.0174532925199433]],PARAMETER[\"Standard_Parallel_2\",38.4333333333333,ANGLEUNIT[\"Degree\",0.0174532925199433]],PARAMETER[\"Latitude_Of_Origin\",36.5,ANGLEUNIT[\"Degree\",0.0174532925199433]]],CS[Cartesian,2],AXIS[\"Easting (X)\",east,ORDER[1]],AXIS[\"Northing (Y)\",north,ORDER[2]],LENGTHUNIT[\"Foot_US\",0.3048006096012192]],VERTCRS[\"NAVD88_height_(ftUS)\",VDATUM[\"North_American_Vertical_Datum_1988\"],CS[vertical,1],AXIS[\"Gravity-related height (H)\",up,LENGTHUNIT[\"Foot_US\",0.3048006096012192]]]]",
"wkt": "PROJCS[\"NAD_1983_2011_StatePlane_California_III_FIPS_0403_Ft_US\",GEOGCS[\"GCS_NAD_1983_2011\",DATUM[\"D_NAD_1983_2011\",SPHEROID[\"GRS_1980\",6378137.0,298.257222101]],PRIMEM[\"Greenwich\",0.0],UNIT[\"Degree\",0.0174532925199433]],PROJECTION[\"Lambert_Conformal_Conic\"],PARAMETER[\"False_Easting\",6561666.667],PARAMETER[\"False_Northing\",1640416.667],PARAMETER[\"Central_Meridian\",-120.5],PARAMETER[\"Standard_Parallel_1\",37.0666666666667],PARAMETER[\"Standard_Parallel_2\",38.4333333333333],PARAMETER[\"Latitude_Of_Origin\",36.5],UNIT[\"Foot_US\",0.3048006096012192]],VERTCS[\"NAVD88_height_(ftUS)\",VDATUM[\"North_American_Vertical_Datum_1988\"],PARAMETER[\"Vertical_Shift\",0.0],PARAMETER[\"Direction\",1.0],UNIT[\"Foot_US\",0.3048006096012192]]"
}
},
"initialExtent": {
"xmin": 5955128.350100883,
"ymin": 2123042.813684926,
"xmax": 6003943.101413966,
"ymax": 2269266.0778042306,
"spatialReference": {
"wkt2": "COMPOUNDCRS[\"\",PROJCRS[\"NAD_1983_2011_StatePlane_California_III_FIPS_0403_Ft_US\",BASEGEOGCRS[\"GCS_NAD_1983_2011\",DATUM[\"D_NAD_1983_2011\",ELLIPSOID[\"GRS_1980\",6378137.0,298.257222101,LENGTHUNIT[\"Meter\",1.0]]],PRIMEM[\"Greenwich\",0.0,ANGLEUNIT[\"Degree\",0.0174532925199433]],CS[ellipsoidal,2],ANGLEUNIT[\"Degree\",0.0174532925199433]],CONVERSION[\"Lambert_Conformal_Conic\",METHOD[\"Lambert_Conformal_Conic\"],PARAMETER[\"False_Easting\",6561666.667,LENGTHUNIT[\"Foot_US\",0.3048006096012192]],PARAMETER[\"False_Northing\",1640416.667,LENGTHUNIT[\"Foot_US\",0.3048006096012192]],PARAMETER[\"Central_Meridian\",-120.5,ANGLEUNIT[\"Degree\",0.0174532925199433]],PARAMETER[\"Standard_Parallel_1\",37.0666666666667,ANGLEUNIT[\"Degree\",0.0174532925199433]],PARAMETER[\"Standard_Parallel_2\",38.4333333333333,ANGLEUNIT[\"Degree\",0.0174532925199433]],PARAMETER[\"Latitude_Of_Origin\",36.5,ANGLEUNIT[\"Degree\",0.0174532925199433]]],CS[Cartesian,2],AXIS[\"Easting (X)\",east,ORDER[1]],AXIS[\"Northing (Y)\",north,ORDER[2]],LENGTHUNIT[\"Foot_US\",0.3048006096012192]],VERTCRS[\"NAVD88_height_(ftUS)\",VDATUM[\"North_American_Vertical_Datum_1988\"],CS[vertical,1],AXIS[\"Gravity-related height (H)\",up,LENGTHUNIT[\"Foot_US\",0.3048006096012192]]]]",
"wkt": "PROJCS[\"NAD_1983_2011_StatePlane_California_III_FIPS_0403_Ft_US\",GEOGCS[\"GCS_NAD_1983_2011\",DATUM[\"D_NAD_1983_2011\",SPHEROID[\"GRS_1980\",6378137.0,298.257222101]],PRIMEM[\"Greenwich\",0.0],UNIT[\"Degree\",0.0174532925199433]],PROJECTION[\"Lambert_Conformal_Conic\"],PARAMETER[\"False_Easting\",6561666.667],PARAMETER[\"False_Northing\",1640416.667],PARAMETER[\"Central_Meridian\",-120.5],PARAMETER[\"Standard_Parallel_1\",37.0666666666667],PARAMETER[\"Standard_Parallel_2\",38.4333333333333],PARAMETER[\"Latitude_Of_Origin\",36.5],UNIT[\"Foot_US\",0.3048006096012192]],VERTCS[\"NAVD88_height_(ftUS)\",VDATUM[\"North_American_Vertical_Datum_1988\"],PARAMETER[\"Vertical_Shift\",0.0],PARAMETER[\"Direction\",1.0],UNIT[\"Foot_US\",0.3048006096012192]]"
}
},
"fullExtent": {
"xmin": 5955128.350100883,
"ymin": 2123042.813684926,
"xmax": 6003943.101413966,
"ymax": 2269266.0778042306,
"spatialReference": {
"wkt2": "COMPOUNDCRS[\"\",PROJCRS[\"NAD_1983_2011_StatePlane_California_III_FIPS_0403_Ft_US\",BASEGEOGCRS[\"GCS_NAD_1983_2011\",DATUM[\"D_NAD_1983_2011\",ELLIPSOID[\"GRS_1980\",6378137.0,298.257222101,LENGTHUNIT[\"Meter\",1.0]]],PRIMEM[\"Greenwich\",0.0,ANGLEUNIT[\"Degree\",0.0174532925199433]],CS[ellipsoidal,2],ANGLEUNIT[\"Degree\",0.0174532925199433]],CONVERSION[\"Lambert_Conformal_Conic\",METHOD[\"Lambert_Conformal_Conic\"],PARAMETER[\"False_Easting\",6561666.667,LENGTHUNIT[\"Foot_US\",0.3048006096012192]],PARAMETER[\"False_Northing\",1640416.667,LENGTHUNIT[\"Foot_US\",0.3048006096012192]],PARAMETER[\"Central_Meridian\",-120.5,ANGLEUNIT[\"Degree\",0.0174532925199433]],PARAMETER[\"Standard_Parallel_1\",37.0666666666667,ANGLEUNIT[\"Degree\",0.0174532925199433]],PARAMETER[\"Standard_Parallel_2\",38.4333333333333,ANGLEUNIT[\"Degree\",0.0174532925199433]],PARAMETER[\"Latitude_Of_Origin\",36.5,ANGLEUNIT[\"Degree\",0.0174532925199433]]],CS[Cartesian,2],AXIS[\"Easting (X)\",east,ORDER[1]],AXIS[\"Northing (Y)\",north,ORDER[2]],LENGTHUNIT[\"Foot_US\",0.3048006096012192]],VERTCRS[\"NAVD88_height_(ftUS)\",VDATUM[\"North_American_Vertical_Datum_1988\"],CS[vertical,1],AXIS[\"Gravity-related height (H)\",up,LENGTHUNIT[\"Foot_US\",0.3048006096012192]]]]",
"wkt": "PROJCS[\"NAD_1983_2011_StatePlane_California_III_FIPS_0403_Ft_US\",GEOGCS[\"GCS_NAD_1983_2011\",DATUM[\"D_NAD_1983_2011\",SPHEROID[\"GRS_1980\",6378137.0,298.257222101]],PRIMEM[\"Greenwich\",0.0],UNIT[\"Degree\",0.0174532925199433]],PROJECTION[\"Lambert_Conformal_Conic\"],PARAMETER[\"False_Easting\",6561666.667],PARAMETER[\"False_Northing\",1640416.667],PARAMETER[\"Central_Meridian\",-120.5],PARAMETER[\"Standard_Parallel_1\",37.0666666666667],PARAMETER[\"Standard_Parallel_2\",38.4333333333333],PARAMETER[\"Latitude_Of_Origin\",36.5],UNIT[\"Foot_US\",0.3048006096012192]],VERTCS[\"NAVD88_height_(ftUS)\",VDATUM[\"North_American_Vertical_Datum_1988\"],PARAMETER[\"Vertical_Shift\",0.0],PARAMETER[\"Direction\",1.0],UNIT[\"Foot_US\",0.3048006096012192]]"
}
},
"sortableFields": "",
"heightModelInfo": {
"heightModel": "gravity_related_height",
"vertCRS": "NAVD88_height_(ftUS)",
"heightUnit": "us-foot"
},
"bandCount": 1,
"pixelType": "U8",
"minValues": [
1
],
"maxValues": [
9
],
"meanValues": [
2.5240110834692
],
"stdvValues": [
2.0742505927304
],
"hasMultidimensions": false,
"pixelSizeX": 0.9999539363968059,
"pixelSizeY": 0.9999539363968044,
"meanPixelSize": 0.304786569386885,
"datasetFormat": "TIFF",
"uncompressedSize": 7138509910,
"blockWidth": 128,
"blockHeight": 128,
"compressionType": "LZW",
"bandNames": [
"Band_1"
],
"allowCopy": true,
"allowAnalysis": true,
"itemAccess": false,
"inspectionCapabilities": "",
"noDataValue": 255,
"noDataValues": [
255
],
"minPixelSize": 0,
"maxPixelSize": 0,
"copyrightText": "",
"serviceDataType": "esriImageServiceDataTypeThematic",
"serviceSourceType": "esriImageServiceSourceTypeDataset",
"objectIdField": "",
"fields": [],
"capabilities": "Mensuration,Image,Metadata",
"defaultMosaicMethod": "Center",
"allowedMosaicMethods": "",
"sortField": "",
"sortValue": null,
"sortAscending": true,
"mosaicOperator": "First",
"defaultCompressionQuality": 75,
"defaultResamplingMethod": "Bilinear",
"maxImageHeight": 4100,
"maxImageWidth": 15000,
"allowRasterFunction": true,
"rasterFunctionInfos": [
{
"name": "None",
"description": "",
"help": ""
}
],
"rasterTypeInfos": [
{
"name": "Raster Dataset",
"description": "Supports all ArcGIS Raster Datasets",
"help": ""
}
],
"mensurationCapabilities": "Basic",
"hasHistograms": true,
"hasColormap": false,
"hasRasterAttributeTable": true,
"minScale": 0,
"maxScale": 0,
"exportTilesAllowed": false,
"supportsStatistics": false,
"supportsAdvancedQueries": false,
"editFieldsInfo": null,
"ownershipBasedAccessControlForRasters": null,
"allowComputeTiePoints": false,
"useStandardizedQueries": true,
"advancedQueryCapabilities": {
"useStandardizedQueries": true,
"supportsStatistics": false,
"supportsOrderBy": false,
"supportsDistinct": false,
"supportsPagination": false
},
"spatialReference": {
"wkt2": "COMPOUNDCRS[\"\",PROJCRS[\"NAD_1983_2011_StatePlane_California_III_FIPS_0403_Ft_US\",BASEGEOGCRS[\"GCS_NAD_1983_2011\",DATUM[\"D_NAD_1983_2011\",ELLIPSOID[\"GRS_1980\",6378137.0,298.257222101,LENGTHUNIT[\"Meter\",1.0]]],PRIMEM[\"Greenwich\",0.0,ANGLEUNIT[\"Degree\",0.0174532925199433]],CS[ellipsoidal,2],ANGLEUNIT[\"Degree\",0.0174532925199433]],CONVERSION[\"Lambert_Conformal_Conic\",METHOD[\"Lambert_Conformal_Conic\"],PARAMETER[\"False_Easting\",6561666.667,LENGTHUNIT[\"Foot_US\",0.3048006096012192]],PARAMETER[\"False_Northing\",1640416.667,LENGTHUNIT[\"Foot_US\",0.3048006096012192]],PARAMETER[\"Central_Meridian\",-120.5,ANGLEUNIT[\"Degree\",0.0174532925199433]],PARAMETER[\"Standard_Parallel_1\",37.0666666666667,ANGLEUNIT[\"Degree\",0.0174532925199433]],PARAMETER[\"Standard_Parallel_2\",38.4333333333333,ANGLEUNIT[\"Degree\",0.0174532925199433]],PARAMETER[\"Latitude_Of_Origin\",36.5,ANGLEUNIT[\"Degree\",0.0174532925199433]]],CS[Cartesian,2],AXIS[\"Easting (X)\",east,ORDER[1]],AXIS[\"Northing (Y)\",north,ORDER[2]],LENGTHUNIT[\"Foot_US\",0.3048006096012192]],VERTCRS[\"NAVD88_height_(ftUS)\",VDATUM[\"North_American_Vertical_Datum_1988\"],CS[vertical,1],AXIS[\"Gravity-related height (H)\",up,LENGTHUNIT[\"Foot_US\",0.3048006096012192]]]]",
"wkt": "PROJCS[\"NAD_1983_2011_StatePlane_California_III_FIPS_0403_Ft_US\",GEOGCS[\"GCS_NAD_1983_2011\",DATUM[\"D_NAD_1983_2011\",SPHEROID[\"GRS_1980\",6378137.0,298.257222101]],PRIMEM[\"Greenwich\",0.0],UNIT[\"Degree\",0.0174532925199433]],PROJECTION[\"Lambert_Conformal_Conic\"],PARAMETER[\"False_Easting\",6561666.667],PARAMETER[\"False_Northing\",1640416.667],PARAMETER[\"Central_Meridian\",-120.5],PARAMETER[\"Standard_Parallel_1\",37.0666666666667],PARAMETER[\"Standard_Parallel_2\",38.4333333333333],PARAMETER[\"Latitude_Of_Origin\",36.5],UNIT[\"Foot_US\",0.3048006096012192]],VERTCS[\"NAVD88_height_(ftUS)\",VDATUM[\"North_American_Vertical_Datum_1988\"],PARAMETER[\"Vertical_Shift\",0.0],PARAMETER[\"Direction\",1.0],UNIT[\"Foot_US\",0.3048006096012192]]"
}
}