<?xml version="1.0" encoding="UTF-8" standalone="no"?>
<metadata xml:lang="en">
<Esri>
<CreaDate>20090922</CreaDate>
<CreaTime>16583000</CreaTime>
<SyncOnce>FALSE</SyncOnce>
<SyncDate>20150629</SyncDate>
<SyncTime>21384900</SyncTime>
<ModDate>20150629</ModDate>
<ModTime>21384900</ModTime>
<DataProperties>
<itemProps>
<itemName Sync="TRUE">USGS_OFR_75_281_2m.img</itemName>
<imsContentType Sync="TRUE">002</imsContentType>
<nativeExtBox>
<westBL Sync="TRUE">493897.170125</westBL>
<eastBL Sync="TRUE">554899.170125</eastBL>
<southBL Sync="TRUE">4191906.571947</southBL>
<northBL Sync="TRUE">4233702.571947</northBL>
<exTypeCode Sync="TRUE">1</exTypeCode>
</nativeExtBox>
</itemProps>
<coordRef>
<type Sync="TRUE">Projected</type>
<geogcsn Sync="TRUE">GCS_WGS_1984</geogcsn>
<csUnits Sync="TRUE">Linear Unit: Meter (1.000000)</csUnits>
<projcsn Sync="TRUE">WGS_1984_UTM_Zone_10N</projcsn>
<peXml Sync="TRUE">&lt;ProjectedCoordinateSystem xsi:type='typens:ProjectedCoordinateSystem' xmlns:xsi='http://www.w3.org/2001/XMLSchema-instance' xmlns:xs='http://www.w3.org/2001/XMLSchema' xmlns:typens='http://www.esri.com/schemas/ArcGIS/10.1'&gt;&lt;WKT&gt;PROJCS[&amp;quot;WGS_1984_UTM_Zone_10N&amp;quot;,GEOGCS[&amp;quot;GCS_WGS_1984&amp;quot;,DATUM[&amp;quot;D_WGS_1984&amp;quot;,SPHEROID[&amp;quot;WGS_1984&amp;quot;,6378137.0,298.257223563]],PRIMEM[&amp;quot;Greenwich&amp;quot;,0.0],UNIT[&amp;quot;Degree&amp;quot;,0.0174532925199433]],PROJECTION[&amp;quot;Transverse_Mercator&amp;quot;],PARAMETER[&amp;quot;false_easting&amp;quot;,500000.0],PARAMETER[&amp;quot;false_northing&amp;quot;,0.0],PARAMETER[&amp;quot;central_meridian&amp;quot;,-123.0],PARAMETER[&amp;quot;scale_factor&amp;quot;,0.9996],PARAMETER[&amp;quot;latitude_of_origin&amp;quot;,0.0],UNIT[&amp;quot;Meter&amp;quot;,1.0],AUTHORITY[&amp;quot;EPSG&amp;quot;,32610]]&lt;/WKT&gt;&lt;XOrigin&gt;-5120900&lt;/XOrigin&gt;&lt;YOrigin&gt;-9998100&lt;/YOrigin&gt;&lt;XYScale&gt;450445547.3910538&lt;/XYScale&gt;&lt;ZOrigin&gt;-100000&lt;/ZOrigin&gt;&lt;ZScale&gt;10000&lt;/ZScale&gt;&lt;MOrigin&gt;-100000&lt;/MOrigin&gt;&lt;MScale&gt;10000&lt;/MScale&gt;&lt;XYTolerance&gt;0.001&lt;/XYTolerance&gt;&lt;ZTolerance&gt;0.001&lt;/ZTolerance&gt;&lt;MTolerance&gt;0.001&lt;/MTolerance&gt;&lt;HighPrecision&gt;true&lt;/HighPrecision&gt;&lt;WKID&gt;32610&lt;/WKID&gt;&lt;LatestWKID&gt;32610&lt;/LatestWKID&gt;&lt;/ProjectedCoordinateSystem&gt;</peXml>
</coordRef>
<RasterProperties>
<General>
<PixelDepth Sync="TRUE">8</PixelDepth>
<HasColormap Sync="TRUE">FALSE</HasColormap>
<CompressionType Sync="TRUE">RLE</CompressionType>
<NumBands Sync="TRUE">1</NumBands>
<Format Sync="TRUE">IMAGINE Image</Format>
<HasPyramids Sync="TRUE">TRUE</HasPyramids>
<SourceType Sync="TRUE">continuous</SourceType>
<PixelType Sync="TRUE">unsigned integer</PixelType>
<NoDataValue Sync="TRUE">255</NoDataValue>
</General>
</RasterProperties>
</DataProperties>
<MetaID>{FD81C768-1C39-4BA7-818D-7975EE58EE48}</MetaID>
<Service Sync="TRUE">Regional/USGS_OFR_75_281_scan2m</Service>
<ServiceType Sync="TRUE">image</ServiceType>
</Esri>
<idinfo>
<native Sync="FALSE">ESRI ArcCatalog 9.3.1.3000</native>
<descript>
<langdata Sync="TRUE">en</langdata>
<abstract>Compilation of 12 plates as georeferenced scans for USGS Open-File Report (1975) OFR75-281 Reconaissance Landslide mapping for Marin County and parts of Sonoma County at 1:24000</abstract>
<purpose>Provide a georeferenced scan version of this historic geologic hazard information</purpose>
</descript>
<citation>
<citeinfo>
<origin>
</origin>
<pubdate>2009 09 22</pubdate>
<title Sync="TRUE">USGS_OFR_75281_2m</title>
<ftname Sync="TRUE">USGS_OFR_75281_2m</ftname>
<geoform Sync="TRUE">Fgdb raster digital data</geoform>
<edition>1.0</edition>
</citeinfo>
</citation>
<timeperd>
<current>publication date</current>
<timeinfo>
<sngdate>
<caldate>1975</caldate>
</sngdate>
</timeinfo>
</timeperd>
<status>
<progress>Complete</progress>
<update>None planned</update>
</status>
<spdom>
<bounding>
<westbc Sync="TRUE">-123.069749</westbc>
<eastbc Sync="TRUE">-122.372576</eastbc>
<northbc Sync="TRUE">38.251342</northbc>
<southbc Sync="TRUE">37.872988</southbc>
</bounding>
<lboundng>
<leftbc Sync="TRUE">493897.170125</leftbc>
<rightbc Sync="TRUE">554899.170125</rightbc>
<bottombc Sync="TRUE">4191906.571947</bottombc>
<topbc Sync="TRUE">4233702.571947</topbc>
</lboundng>
</spdom>
<keywords>
<theme>
<themekt>County of Marin</themekt>
<themekey>California Geology</themekey>
<themekey>Marin County landslide reconaissance</themekey>
<themekey>US Geological Survey</themekey>
</theme>
</keywords>
<accconst>Public</accconst>
<useconst>Public</useconst>
<natvform Sync="TRUE">File Geodatabase Raster Dataset</natvform>
<ptcontac>
<cntinfo>
<cntorgp>
<cntorg>County of Marin / Community Devlopment Agency / GIS Division</cntorg>
<cntper>Brian B. Quinn</cntper>
</cntorgp>
<cntpos>GIS Analyst</cntpos>
<cntaddr>
<addrtype>mailing address</addrtype>
<address>3501 Civic Center Drive #308</address>
<city>San Rafael</city>
<state>CA</state>
<postal>94903</postal>
<country>US</country>
</cntaddr>
<cntvoice>+1.415.499.3218</cntvoice>
</cntinfo>
</ptcontac>
<datacred>US Geological Survey -
Open-File Map 75-281
http://pubs.usgs.gov/mf/2000/2337/
http://pubs.usgs.gov/mf/2002/2402/
http://pubs.er.usgs.gov/usgspubs/sim/sim2956</datacred>
<secinfo>
<secclass>Unclassified</secclass>
</secinfo>
</idinfo>
<dataIdInfo>
<dataLang>
<languageCode Sync="TRUE" value="eng">
</languageCode>
<countryCode Sync="TRUE" value="USA">
</countryCode>
</dataLang>
<idCitation>
<resTitle Sync="TRUE">USGS_OFR_75_281_2m_img</resTitle>
<presForm>
<PresFormCd Sync="TRUE" value="005">
</PresFormCd>
</presForm>
</idCitation>
<dataExt>
<geoEle>
<GeoBndBox esriExtentType="native">
<westBL Sync="TRUE">493897.170125</westBL>
<eastBL Sync="TRUE">554899.170125</eastBL>
<northBL Sync="TRUE">4233702.571947</northBL>
<southBL Sync="TRUE">4191906.571947</southBL>
<exTypeCode Sync="TRUE">1</exTypeCode>
</GeoBndBox>
</geoEle>
</dataExt>
<geoBox esriExtentType="decdegrees">
<westBL Sync="TRUE">-123.069749</westBL>
<eastBL Sync="TRUE">-122.372576</eastBL>
<northBL Sync="TRUE">38.251342</northBL>
<southBL Sync="TRUE">37.872988</southBL>
<exTypeCode Sync="TRUE">1</exTypeCode>
</geoBox>
<spatRpType>
<SpatRepTypCd Sync="TRUE" value="002">
</SpatRepTypCd>
</spatRpType>
<dataExt>
<geoEle>
<GeoBndBox esriExtentType="search">
<exTypeCode Sync="TRUE">1</exTypeCode>
<westBL Sync="TRUE">-123.069749</westBL>
<eastBL Sync="TRUE">-122.372576</eastBL>
<northBL Sync="TRUE">38.251342</northBL>
<southBL Sync="TRUE">37.872988</southBL>
</GeoBndBox>
</geoEle>
</dataExt>
<envirDesc Sync="FALSE">Esri ArcGIS 10.1.1.3143</envirDesc>
<idAbs/>
<idPurp/>
<idCredit/>
<resConst>
<Consts>
<useLimit/>
</Consts>
</resConst>
</dataIdInfo>
<metainfo>
<langmeta Sync="TRUE">en</langmeta>
<metstdn Sync="TRUE">FGDC Content Standards for Digital Geospatial Metadata</metstdn>
<metstdv Sync="TRUE">FGDC-STD-001-1998</metstdv>
<mettc Sync="TRUE">local time</mettc>
<metc>
<cntinfo>
<cntorgp>
<cntper>Brian B. Quinn, Ph.D. GISP</cntper>
<cntorg>County of Marin / Community Development Agency / GIS Division</cntorg>
</cntorgp>
<cntaddr>
<addrtype>mailing address</addrtype>
<city>San Rafael</city>
<state>CA</state>
<postal>94903</postal>
<address>3501 Civic Center Drive #308</address>
<country>US</country>
</cntaddr>
<cntvoice>+1.415.499.3218</cntvoice>
<cntpos>GIS Analyst</cntpos>
</cntinfo>
</metc>
<metd Sync="TRUE">20090923</metd>
</metainfo>
<mdLang>
<languageCode Sync="TRUE" value="eng">
</languageCode>
<countryCode Sync="TRUE" value="USA">
</countryCode>
</mdLang>
<mdStanName Sync="TRUE">ISO 19115 Geographic Information - Metadata</mdStanName>
<mdStanVer Sync="TRUE">DIS_ESRI1.0</mdStanVer>
<mdChar>
<CharSetCd Sync="TRUE" value="004">
</CharSetCd>
</mdChar>
<mdHrLv>
<ScopeCd Sync="TRUE" value="005">
</ScopeCd>
</mdHrLv>
<mdHrLvName Sync="TRUE">dataset</mdHrLvName>
<distinfo>
<resdesc Sync="TRUE">Downloadable Data</resdesc>
<distrib>
<cntinfo>
<cntorgp>
<cntorg>MarinMap</cntorg>
</cntorgp>
</cntinfo>
</distrib>
</distinfo>
<distInfo>
<distributor>
<distorTran>
<onLineSrc>
<orDesc Sync="TRUE">002</orDesc>
<protocol Sync="TRUE">Local Area Network</protocol>
</onLineSrc>
</distorTran>
<distorFormat>
<formatName Sync="TRUE">File Geodatabase Raster Dataset</formatName>
</distorFormat>
</distributor>
<distFormat>
<formatName Sync="TRUE">Raster Dataset</formatName>
</distFormat>
</distInfo>
<spdoinfo>
<direct Sync="TRUE">Raster</direct>
<ptvctinf>
<esriterm Name="cda_gis.BQUINN.C83H_Marin_Geology_20090601_pg">
<efeatyp Sync="TRUE">Simple</efeatyp>
<efeageom Sync="TRUE">Polygon</efeageom>
<esritopo Sync="TRUE">FALSE</esritopo>
<efeacnt Sync="TRUE">3636</efeacnt>
<spindex Sync="TRUE">TRUE</spindex>
<linrefer Sync="TRUE">FALSE</linrefer>
</esriterm>
<sdtsterm Name="cda_gis.BQUINN.C83H_Marin_Geology_20090601_pg">
<sdtstype Sync="TRUE">G-polygon</sdtstype>
<ptvctcnt Sync="TRUE">3636</ptvctcnt>
</sdtsterm>
</ptvctinf>
<rastinfo>
<rasttype Sync="TRUE">Pixel</rasttype>
<rowcount Sync="TRUE">20898</rowcount>
<colcount Sync="TRUE">30501</colcount>
<rastxsz Sync="TRUE">2.000000</rastxsz>
<rastysz Sync="TRUE">2.000000</rastysz>
<rastbpp Sync="TRUE">8</rastbpp>
<vrtcount Sync="TRUE">1</vrtcount>
<rastorig Sync="TRUE">Upper Left</rastorig>
<rastcmap Sync="TRUE">FALSE</rastcmap>
<rastcomp Sync="TRUE">LZ77</rastcomp>
<rastband Sync="TRUE">1</rastband>
<rastdtyp Sync="TRUE">pixel codes</rastdtyp>
<rastifor Sync="TRUE">FGDBR</rastifor>
<rastplyr Sync="TRUE">TRUE</rastplyr>
</rastinfo>
</spdoinfo>
<spref>
<horizsys>
<cordsysn>
<geogcsn Sync="TRUE">GCS_WGS_1984</geogcsn>
<projcsn Sync="TRUE">WGS_1984_UTM_Zone_10N</projcsn>
</cordsysn>
<planar>
<planci>
<plance Sync="TRUE">row and column</plance>
<plandu Sync="TRUE">meters</plandu>
<coordrep>
<absres Sync="TRUE">2.000000</absres>
<ordres Sync="TRUE">2.000000</ordres>
</coordrep>
</planci>
</planar>
<geodetic>
<horizdn Sync="TRUE">D_WGS_1984</horizdn>
<ellips Sync="TRUE">WGS_1984</ellips>
<semiaxis Sync="TRUE">6378137.000000</semiaxis>
<denflat Sync="TRUE">298.257224</denflat>
</geodetic>
</horizsys>
<vertdef>
<altsys>
<altenc Sync="TRUE">Explicit elevation coordinate included with horizontal coordinates</altenc>
<altres Sync="TRUE">0.000100</altres>
</altsys>
</vertdef>
</spref>
<refSysInfo>
<RefSystem>
<refSysID>
<identCode Sync="TRUE" code="32610" value="32610">WGS_1984_UTM_Zone_10N</identCode>
<idCodeSpace Sync="TRUE">EPSG</idCodeSpace>
<idVersion Sync="TRUE">7.11.2</idVersion>
</refSysID>
</RefSystem>
</refSysInfo>
<spatRepInfo>
<VectSpatRep>
<topLvl>
<TopoLevCd Sync="TRUE" value="001">
</TopoLevCd>
</topLvl>
<geometObjs Name="cda_gis.BQUINN.C83H_Marin_Geology_20090601_pg">
<geoObjTyp>
<GeoObjTypCd Sync="TRUE" value="001">
</GeoObjTypCd>
</geoObjTyp>
<geoObjCnt Sync="TRUE">3636</geoObjCnt>
</geometObjs>
</VectSpatRep>
<Georect>
<cellGeo>
<CellGeoCd Sync="TRUE" value="002">
</CellGeoCd>
</cellGeo>
<numDims Sync="TRUE">2</numDims>
<tranParaAv Sync="TRUE">1</tranParaAv>
<chkPtAv Sync="TRUE">0</chkPtAv>
<cornerPts>
<pos Sync="TRUE">493897.170125 4191906.571947</pos>
</cornerPts>
<cornerPts>
<pos Sync="TRUE">493897.170125 4233702.571947</pos>
</cornerPts>
<cornerPts>
<pos Sync="TRUE">554899.170125 4233702.571947</pos>
</cornerPts>
<cornerPts>
<pos Sync="TRUE">554899.170125 4191906.571947</pos>
</cornerPts>
<centerPt>
<pos Sync="TRUE">524398.170125 4212804.571947</pos>
</centerPt>
<axisDimension type="002">
<dimSize Sync="TRUE">30501</dimSize>
<dimResol>
<value Sync="TRUE" uom="Meter">2.000000</value>
</dimResol>
</axisDimension>
<axisDimension type="001">
<dimSize Sync="TRUE">20898</dimSize>
<dimResol>
<value Sync="TRUE" uom="Meter">2.000000</value>
</dimResol>
</axisDimension>
<ptInPixel>
<PixOrientCd Sync="TRUE" value="001">
</PixOrientCd>
</ptInPixel>
</Georect>
</spatRepInfo>
<eainfo>
<detailed Name="cda_gis.BQUINN.C83H_Marin_Geology_20090601_pg">
<enttyp>
<enttypl Sync="TRUE">cda_gis.BQUINN.C83H_Marin_Geology_20090601_pg</enttypl>
<enttypt Sync="TRUE">Feature Class</enttypt>
<enttypc Sync="TRUE">3636</enttypc>
</enttyp>
<attr>
<attrlabl Sync="TRUE">OBJECTID</attrlabl>
<attalias Sync="TRUE">OBJECTID</attalias>
<attrtype Sync="TRUE">OID</attrtype>
<attwidth Sync="TRUE">4</attwidth>
<atprecis Sync="TRUE">10</atprecis>
<attscale Sync="TRUE">0</attscale>
<attrdef Sync="TRUE">Internal feature number.</attrdef>
<attrdefs Sync="TRUE">ESRI</attrdefs>
<attrdomv>
<udom Sync="TRUE">Sequential unique whole numbers that are automatically generated.</udom>
</attrdomv>
</attr>
<attr>
<attrlabl Sync="TRUE">Shape</attrlabl>
<attalias Sync="TRUE">Shape</attalias>
<attrtype Sync="TRUE">Geometry</attrtype>
<attwidth Sync="TRUE">4</attwidth>
<atprecis Sync="TRUE">0</atprecis>
<attscale Sync="TRUE">0</attscale>
<attrdef Sync="TRUE">Feature geometry.</attrdef>
<attrdefs Sync="TRUE">ESRI</attrdefs>
<attrdomv>
<udom Sync="TRUE">Coordinates defining the features.</udom>
</attrdomv>
</attr>
<attr>
<attrlabl Sync="TRUE">ET_ID</attrlabl>
<attalias Sync="TRUE">ET_ID</attalias>
<attrtype Sync="TRUE">Integer</attrtype>
<attwidth Sync="TRUE">4</attwidth>
<atprecis Sync="TRUE">10</atprecis>
<attscale Sync="TRUE">0</attscale>
</attr>
<attr>
<attrlabl Sync="TRUE">ET_X</attrlabl>
<attalias Sync="TRUE">ET_X</attalias>
<attrtype Sync="TRUE">Double</attrtype>
<attwidth Sync="TRUE">8</attwidth>
<atprecis Sync="TRUE">38</atprecis>
<attscale Sync="TRUE">8</attscale>
</attr>
<attr>
<attrlabl Sync="TRUE">ET_Y</attrlabl>
<attalias Sync="TRUE">ET_Y</attalias>
<attrtype Sync="TRUE">Double</attrtype>
<attwidth Sync="TRUE">8</attwidth>
<atprecis Sync="TRUE">38</atprecis>
<attscale Sync="TRUE">8</attscale>
</attr>
<attr>
<attrlabl Sync="TRUE">PTYPE</attrlabl>
<attalias Sync="TRUE">PTYPE</attalias>
<attrtype Sync="TRUE">String</attrtype>
<attwidth Sync="TRUE">35</attwidth>
<atprecis Sync="TRUE">0</atprecis>
<attscale Sync="TRUE">0</attscale>
<attrdef>Polygon type for map unit</attrdef>
<attrdefs>US Geological Survey publications</attrdefs>
<attrvai>
<attrva>transcribed</attrva>
</attrvai>
</attr>
<attr>
<attrlabl Sync="TRUE">Shape.area</attrlabl>
<attalias Sync="TRUE">Shape.area</attalias>
<attrtype Sync="TRUE">Double</attrtype>
<attwidth Sync="TRUE">0</attwidth>
<atprecis Sync="TRUE">0</atprecis>
<attscale Sync="TRUE">0</attscale>
</attr>
<attr>
<attrlabl Sync="TRUE">Shape.len</attrlabl>
<attalias Sync="TRUE">Shape.len</attalias>
<attrtype Sync="TRUE">Double</attrtype>
<attwidth Sync="TRUE">0</attwidth>
<atprecis Sync="TRUE">0</atprecis>
<attscale Sync="TRUE">0</attscale>
</attr>
</detailed>
</eainfo>
<mdDateSt Sync="TRUE">20150629</mdDateSt>
<dataqual>
<lineage>
<srcinfo>
<srccite>
<citeinfo>
<origin>US Geological Survey</origin>
<onlink>http://pubs.er.usgs.gov/usgspubs/sim/sim2956</onlink>
<pubdate>2007</pubdate>
<title>Geologic Map and Map Database of Eastern Sonoma and Western Napa Counties, California</title>
<edition>Scientific Investigations Map 2956</edition>
<geoform>vector digital data</geoform>
</citeinfo>
</srccite>
<srctime>
<timeinfo>
<sngdate>
<caldate>2007</caldate>
</sngdate>
</timeinfo>
<srccurr>publication date</srccurr>
</srctime>
<srcscale>24000</srcscale>
<typesrc>online</typesrc>
<srccitea>USGS OFR 75-281</srccitea>
</srcinfo>
<srcinfo>
<srccite>
<citeinfo>
<origin>US Geological Survey</origin>
<pubdate>2005</pubdate>
<title>Geologic Map and Map Database of Western Sonoma, Northernmost Marin, and Southernmost Mendocino Counties, California</title>
<onlink>http://pubs.usgs.gov/mf/2002/2402/</onlink>
<edition>Miscellaneous Field Studies Map MF-2402</edition>
<geoform>vector digital data</geoform>
</citeinfo>
</srccite>
<srctime>
<timeinfo>
<sngdate>
<caldate>2005</caldate>
</sngdate>
</timeinfo>
</srctime>
<srcscale>62500</srcscale>
<typesrc>online</typesrc>
<srccitea>http://pubs.usgs.gov/mf/2002/2402/</srccitea>
</srcinfo>
<srcinfo>
<srccite>
<citeinfo>
<origin>US Geological Survey </origin>
<pubdate>2000</pubdate>
<title>Geologic Map and Map Database of Parts of Marin, San Francisco, Alameda, Contra Costa, and Sonoma Counties, California</title>
<onlink>http://pubs.usgs.gov/mf/2000/2337/</onlink>
<edition>Miscellaneous Field Studies Map MF-2402</edition>
<geoform>vector digital data</geoform>
</citeinfo>
</srccite>
<srctime>
<timeinfo>
<sngdate>
<caldate>2000</caldate>
</sngdate>
</timeinfo>
</srctime>
<srcscale>75000</srcscale>
<typesrc>online</typesrc>
<srccitea>http://pubs.usgs.gov/mf/2000/2337/</srccitea>
</srcinfo>
<srcinfo>
<srccite>
<citeinfo>
<origin>US Geological Survey</origin>
<pubdate>1997</pubdate>
<title>Geology of Point Reyes National Seashore and Vicinity, California: A Digital Database</title>
<edition>Open-File Report 97-456</edition>
<onlink>http://pubs.usgs.gov/of/1997/of97-456/</onlink>
<geoform>vector digital data</geoform>
</citeinfo>
</srccite>
<srctime>
<timeinfo>
<sngdate>
<caldate>1997</caldate>
</sngdate>
</timeinfo>
</srctime>
<srcscale>48000</srcscale>
<typesrc>online</typesrc>
<srccitea>http://pubs.usgs.gov/of/1997/of97-456/</srccitea>
</srcinfo>
</lineage>
<posacc>
<horizpa>
<horizpar>1:24000</horizpar>
</horizpa>
<vertacc>
<vertaccr>none</vertaccr>
</vertacc>
</posacc>
</dataqual>
<contInfo>
<ImgDesc>
<contentTyp>
<ContentTypCd Sync="TRUE" value="001">
</ContentTypCd>
</contentTyp>
<covDim>
<Band>
<dimDescrp Sync="TRUE">Layer_1</dimDescrp>
<bitsPerVal Sync="TRUE">8</bitsPerVal>
<valUnit>
<UOM type="length">
<unitSymbol Sync="TRUE">Meter</unitSymbol>
</UOM>
</valUnit>
<maxVal Sync="TRUE">254.000000</maxVal>
<minVal Sync="TRUE">0.000000</minVal>
</Band>
</covDim>
</ImgDesc>
</contInfo>
</metadata>
