{ "currentVersion": 11.3, "serviceDescription": "
To produce this image, first a best-available annotated copy of the 1971 Zoning Plan was obtained and scanned in color at 400 dpi on an Oce A0-size scanner. In ArcGIS Desktop, Georeferencing tools, approximately 30 points were identified to correlate features in the 1971 map scan with existing parcel and county boundary features. The scan was then resampled using a second-order polynomial fit from the control points to project the scan into NAD 1983 HARN, California Coordinates (State Plane) zone 3.<\/span><\/p> The resulting scan allows a quick and reasonably accurate overly of the 1971 Zoning Plan on modern parcels, building footprints, and diverse map layers.<\/span><\/p><\/div>",
"name": "Zoning_Plan_Unincorp_1971_img",
"description": " To produce this image, first a best-available annotated copy of the 1971 Zoning Plan was obtained and scanned in color at 400 dpi on an Oce A0-size scanner. In ArcGIS Desktop, Georeferencing tools, approximately 30 points were identified to correlate features in the 1971 map scan with existing parcel and county boundary features. The scan was then resampled using a second-order polynomial fit from the control points to project the scan into NAD 1983 HARN, California Coordinates (State Plane) zone 3.<\/span><\/p> The resulting scan allows a quick and reasonably accurate overly of the 1971 Zoning Plan on modern parcels, building footprints, and diverse map layers.<\/span><\/p><\/div>",
"extent": {
"xmin": 5823168.027316109,
"ymin": 2113887.9325693147,
"xmax": 6036388.027316109,
"ymax": 2322807.9325693147,
"spatialReference": {
"wkid": 2872,
"latestWkid": 2872
}
},
"initialExtent": {
"xmin": 5823168.027316109,
"ymin": 2113887.9325693147,
"xmax": 6036388.027316109,
"ymax": 2322807.9325693147,
"spatialReference": {
"wkid": 2872,
"latestWkid": 2872
}
},
"fullExtent": {
"xmin": 5823168.027316109,
"ymin": 2113887.9325693147,
"xmax": 6036388.027316109,
"ymax": 2322807.9325693147,
"spatialReference": {
"wkid": 2872,
"latestWkid": 2872
}
},
"sortableFields": "",
"bandCount": 3,
"pixelType": "U16",
"minValues": [
45,
90,
72
],
"maxValues": [
255,
255,
255
],
"meanValues": [
236.497443127,
233.17975518441,
214.09226901624
],
"stdvValues": [
39.227448711409,
36.114194360916,
27.16510633011
],
"hasMultidimensions": false,
"pixelSizeX": 20,
"pixelSizeY": 20,
"meanPixelSize": 6.096012192024385,
"datasetFormat": "IMAGINE Image",
"uncompressedSize": 668188836,
"blockWidth": 64,
"blockHeight": 64,
"compressionType": "None",
"bandNames": [
"Layer_1",
"Layer_2",
"Layer_3"
],
"allowCopy": true,
"allowAnalysis": true,
"itemAccess": false,
"inspectionCapabilities": "",
"noDataValue": 256,
"noDataValues": [
256,
256,
256
],
"minPixelSize": 0,
"maxPixelSize": 0,
"copyrightText": "- County of Marin / Community Development Agency archives- Planning Manager Jeremy Tejirian for identifying the desired document",
"serviceDataType": "esriImageServiceDataTypeGeneric",
"serviceSourceType": "esriImageServiceSourceTypeDataset",
"objectIdField": "",
"fields": [],
"capabilities": "Mensuration,Image,Metadata",
"defaultMosaicMethod": "Center",
"allowedMosaicMethods": "",
"sortField": "",
"sortValue": null,
"sortAscending": true,
"mosaicOperator": "First",
"defaultCompressionQuality": 75,
"defaultResamplingMethod": "Bilinear",
"maxImageHeight": 4100,
"maxImageWidth": 15000,
"allowRasterFunction": true,
"rasterFunctionInfos": [
{
"name": "None",
"description": "",
"help": ""
}
],
"rasterTypeInfos": [
{
"name": "Raster Dataset",
"description": "Supports all ArcGIS Raster Datasets",
"help": ""
}
],
"mensurationCapabilities": "Basic",
"hasHistograms": true,
"hasColormap": false,
"hasRasterAttributeTable": false,
"minScale": 0,
"maxScale": 0,
"exportTilesAllowed": false,
"supportsStatistics": false,
"supportsAdvancedQueries": false,
"editFieldsInfo": null,
"ownershipBasedAccessControlForRasters": null,
"allowComputeTiePoints": false,
"useStandardizedQueries": true,
"advancedQueryCapabilities": {
"useStandardizedQueries": true,
"supportsStatistics": false,
"supportsOrderBy": false,
"supportsDistinct": false,
"supportsPagination": false
},
"spatialReference": {
"wkid": 2872,
"latestWkid": 2872
},
"resampling": false
}