View In:
ArcGIS JavaScript
ArcGIS Online Map Viewer
ArcGIS Earth
Service Description: CGS_slope_stability_12k_img
Name: CGS_slope_stability_12k_img
Description:
Single Fused Map Cache: false
Extent:
XMin: 499231.5764369789
YMin: 4185240.1875789007
XMax: 551901.5764369789
YMax: 4241286.437578901
Spatial Reference: 32610
(32610)
LatestVCSWkid(0)
Initial Extent:
XMin: 499231.5764369789
YMin: 4185240.1875789007
XMax: 551901.5764369789
YMax: 4241286.437578901
Spatial Reference: 32610
(32610)
LatestVCSWkid(0)
Full Extent:
XMin: 499231.5764369789
YMin: 4185240.1875789007
XMax: 551901.5764369789
YMax: 4241286.437578901
Spatial Reference: 32610
(32610)
LatestVCSWkid(0)
Pixel Size X: 1.25
Pixel Size Y: 1.25
Band Count: 1
Pixel Type: U8
RasterFunction Infos: {"rasterFunctionInfos": [{
"name": "None",
"description": "",
"help": ""
}]}
Mensuration Capabilities: Basic
Inspection Capabilities:
Has Histograms: true
Has Colormap: false
Has Multi Dimensions : false
Rendering Rule:
Min Scale: 0
Max Scale: 0
Resampling: false
Copyright Text:
Service Data Type: esriImageServiceDataTypeGeneric
Min Values: 0
Max Values: 254
Mean Values: 167.71375564704
Standard Deviation Values: 84.445772650957
Object ID Field:
Fields:
None
Default Mosaic Method: Center
Allowed Mosaic Methods:
SortField:
SortValue: null
Mosaic Operator: First
Default Compression Quality: 75
Default Resampling Method: Bilinear
Max Record Count: null
Max Image Height: 4100
Max Image Width: 15000
Max Download Image Count: null
Max Mosaic Image Count: null
Allow Raster Function: true
Allow Copy: true
Allow Analysis: true
Allow Compute TiePoints: false
Supports Statistics: false
Supports Advanced Queries: false
Use StandardizedQueries: true
Raster Type Infos:
Name: Raster Dataset
Description: Supports all ArcGIS Raster Datasets
Help:
Has Raster Attribute Table: false
Edit Fields Info: null
Ownership Based AccessControl For Rasters: null
Child Resources:
Info
Histograms
Statistics
Key Properties
Legend
Raster Function Infos
Supported Operations:
Export Image
Identify
Measure
Compute Histograms
Compute Statistics Histograms
Get Samples
Compute Class Statistics
Query Boundary
Compute Pixel Location
Compute Angles
Validate
Project