View In:
ArcGIS JavaScript
ArcGIS Online Map Viewer
ArcGIS Earth
Service Description: Staff from Marin County DPW merged tiles from SF Bay Delta LiDAR project into one mosaic GeoTIFF. In order to simplify the data for use in tidal flooding and El Nino preparation maps and apps, staff then reclassed the result into a new raster of ½ ft elevation categories according to the reclass table below:
From | To | Output |
-500 | 0.999 | 0 |
0 | 5.999 | 1 |
6 | 6.4999 | 2 |
6.5 | 6.999 | 3 |
7 | 7.499 | 4 |
7.5 | 7.999 | 5 |
8 | 8.4999 | 6 |
8.5 | 8.999 | 7 |
9 | 9.4999 | 8 |
9.5 | 10 | 9 |
10.1 | | 0 |
Name: Data/2025_SFBD_LiDAR_Reclass
Description:
Single Fused Map Cache: false
Extent:
XMin: 5955128.350100883
YMin: 2123042.813684926
XMax: 6003943.101413966
YMax: 2269266.0778042306
Spatial Reference: 0
(0)
LatestVCSWkid(0)
Initial Extent:
XMin: 5955128.350100883
YMin: 2123042.813684926
XMax: 6003943.101413966
YMax: 2269266.0778042306
Spatial Reference: 0
(0)
LatestVCSWkid(0)
Full Extent:
XMin: 5955128.350100883
YMin: 2123042.813684926
XMax: 6003943.101413966
YMax: 2269266.0778042306
Spatial Reference: 0
(0)
LatestVCSWkid(0)
Pixel Size X: 0.9999539363968059
Pixel Size Y: 0.9999539363968044
Band Count: 1
Pixel Type: U8
RasterFunction Infos: {"rasterFunctionInfos": [{
"name": "None",
"description": "",
"help": ""
}]}
Mensuration Capabilities: Basic
Inspection Capabilities:
Has Histograms: true
Has Colormap: false
Has Multi Dimensions : false
Rendering Rule:
Min Scale: 0
Max Scale: 0
Copyright Text:
Service Data Type: esriImageServiceDataTypeThematic
Min Values: 1
Max Values: 9
Mean Values: 2.5240110834692
Standard Deviation Values: 2.0742505927304
Object ID Field:
Fields:
None
Default Mosaic Method: Center
Allowed Mosaic Methods:
SortField:
SortValue: null
Mosaic Operator: First
Default Compression Quality: 75
Default Resampling Method: Bilinear
Max Record Count: null
Max Image Height: 4100
Max Image Width: 15000
Max Download Image Count: null
Max Mosaic Image Count: null
Allow Raster Function: true
Allow Copy: true
Allow Analysis: true
Allow Compute TiePoints: false
Supports Statistics: false
Supports Advanced Queries: false
Use StandardizedQueries: true
Raster Type Infos:
Name: Raster Dataset
Description: Supports all ArcGIS Raster Datasets
Help:
Has Raster Attribute Table: true
Edit Fields Info: null
Ownership Based AccessControl For Rasters: null
Child Resources:
Info
Raster Attribute Table
Histograms
Statistics
Key Properties
Legend
Raster Function Infos
Supported Operations:
Export Image
Identify
Measure
Compute Histograms
Compute Statistics Histograms
Get Samples
Compute Class Statistics
Query Boundary
Compute Pixel Location
Compute Angles
Validate
Project