View In:
ArcGIS JavaScript
ArcGIS Online Map Viewer
ArcGIS Earth
Service Description: To produce this image, first a best-available annotated copy of the 1971 Zoning Plan was obtained and scanned in color at 400 dpi on an Oce A0-size scanner. In ArcGIS Desktop, Georeferencing tools, approximately 30 points were identified to correlate features in the 1971 map scan with existing parcel and county boundary features. The scan was then resampled using a second-order polynomial fit from the control points to project the scan into NAD 1983 HARN, California Coordinates (State Plane) zone 3.
The resulting scan allows a quick and reasonably accurate overly of the 1971 Zoning Plan on modern parcels, building footprints, and diverse map layers.
Name: Zoning_Plan_Unincorp_1971_img
Description: To produce this image, first a best-available annotated copy of the 1971 Zoning Plan was obtained and scanned in color at 400 dpi on an Oce A0-size scanner. In ArcGIS Desktop, Georeferencing tools, approximately 30 points were identified to correlate features in the 1971 map scan with existing parcel and county boundary features. The scan was then resampled using a second-order polynomial fit from the control points to project the scan into NAD 1983 HARN, California Coordinates (State Plane) zone 3.
The resulting scan allows a quick and reasonably accurate overly of the 1971 Zoning Plan on modern parcels, building footprints, and diverse map layers.
Single Fused Map Cache: false
Extent:
XMin: 5823168.027316109
YMin: 2113887.9325693147
XMax: 6036388.027316109
YMax: 2322807.9325693147
Spatial Reference: 2872
(2872)
LatestVCSWkid(0)
Initial Extent:
XMin: 5823168.027316109
YMin: 2113887.9325693147
XMax: 6036388.027316109
YMax: 2322807.9325693147
Spatial Reference: 2872
(2872)
LatestVCSWkid(0)
Full Extent:
XMin: 5823168.027316109
YMin: 2113887.9325693147
XMax: 6036388.027316109
YMax: 2322807.9325693147
Spatial Reference: 2872
(2872)
LatestVCSWkid(0)
Pixel Size X: 20.0
Pixel Size Y: 20.0
Band Count: 3
Pixel Type: U16
RasterFunction Infos: {"rasterFunctionInfos": [{
"name": "None",
"description": "",
"help": ""
}]}
Mensuration Capabilities: Basic
Inspection Capabilities:
Has Histograms: true
Has Colormap: false
Has Multi Dimensions : false
Rendering Rule:
Min Scale: 0
Max Scale: 0
Resampling: false
Copyright Text: - County of Marin / Community Development Agency archives- Planning Manager Jeremy Tejirian for identifying the desired document
Service Data Type: esriImageServiceDataTypeGeneric
Min Values: 45, 90, 72
Max Values: 255, 255, 255
Mean Values: 236.497443127, 233.17975518441, 214.09226901624
Standard Deviation Values: 39.227448711409, 36.114194360916, 27.16510633011
Object ID Field:
Fields:
None
Default Mosaic Method: Center
Allowed Mosaic Methods:
SortField:
SortValue: null
Mosaic Operator: First
Default Compression Quality: 75
Default Resampling Method: Bilinear
Max Record Count: null
Max Image Height: 4100
Max Image Width: 15000
Max Download Image Count: null
Max Mosaic Image Count: null
Allow Raster Function: true
Allow Copy: true
Allow Analysis: true
Allow Compute TiePoints: false
Supports Statistics: false
Supports Advanced Queries: false
Use StandardizedQueries: true
Raster Type Infos:
Name: Raster Dataset
Description: Supports all ArcGIS Raster Datasets
Help:
Has Raster Attribute Table: false
Edit Fields Info: null
Ownership Based AccessControl For Rasters: null
Child Resources:
Info
Histograms
Statistics
Key Properties
Legend
Raster Function Infos
Supported Operations:
Export Image
Identify
Measure
Compute Histograms
Compute Statistics Histograms
Get Samples
Compute Class Statistics
Query Boundary
Compute Pixel Location
Compute Angles
Validate
Project